BEGIN:VCALENDAR
VERSION:2.0
PRODID:-//wp-events-plugin.com//7.2.3.1//EN
TZID:America/New_York
X-WR-TIMEZONE:America/New_York
BEGIN:VEVENT
UID:58@alexanderarmoryllc.com
DTSTART;TZID=America/New_York:20260425T160000
DTEND;TZID=America/New_York:20260425T200000
DTSTAMP:20260422T222502Z
URL:https://alexanderarmoryllc.com/events/concealed-carry-ccw-class-april-
 25-2026/
SUMMARY:Concealed Carry (CCW) Class - April 25\, 2026
DESCRIPTION:Concealed Carry (CCW) Class required for CCW License
ATTACH;FMTTYPE=image/jpeg:https://alexanderarmoryllc.com/wp-content/upload
 s/2025/03/Featured_Using_Photographs_For_Gun_Training_03-16-2021.jpg
CATEGORIES:CCW Class
LOCATION:Alexander Armory\, 3001 Main Street\, Weirton\, WV\, 26062\, Unite
 d States
X-APPLE-STRUCTURED-LOCATION;VALUE=URI;X-ADDRESS=3001 Main Street\, Weirton\
 , WV\, 26062\, United States;X-APPLE-RADIUS=100;X-TITLE=Alexander Armory:g
 eo:0,0
END:VEVENT
BEGIN:VTIMEZONE
TZID:America/New_York
X-LIC-LOCATION:America/New_York
BEGIN:DAYLIGHT
DTSTART:20260308T030000
TZOFFSETFROM:-0500
TZOFFSETTO:-0400
TZNAME:EDT
END:DAYLIGHT
END:VTIMEZONE
END:VCALENDAR