BEGIN:VCALENDAR
VERSION:2.0
PRODID:-//wp-events-plugin.com//7.2.3.1//EN
TZID:America/New_York
X-WR-TIMEZONE:America/New_York
BEGIN:VEVENT
UID:5@alexanderarmoryllc.com
DTSTART;TZID=America/New_York:20220812T160000
DTEND;TZID=America/New_York:20220812T190000
DTSTAMP:20220811T233351Z
URL:https://alexanderarmoryllc.com/events/friday-night-ladies-night-2022-0
 8-12/
SUMMARY:Friday Night Ladies Night
DESCRIPTION:Friday Night Ladies Night. This is the first of a 3 part series
  in "Women's Handgun and Self Defense".
ATTACH;FMTTYPE=image/jpeg:https://alexanderarmoryllc.com/wp-content/upload
 s/2022/07/5061962_taking-aim-scaled.jpg
CATEGORIES:Ladies Night
LOCATION:Alexander Armory\, 3001 Main Street\, Weirton\, WV\, 26062\, Unite
 d States
X-APPLE-STRUCTURED-LOCATION;VALUE=URI;X-ADDRESS=3001 Main Street\, Weirton\
 , WV\, 26062\, United States;X-APPLE-RADIUS=100;X-TITLE=Alexander Armory:g
 eo:0,0
END:VEVENT
BEGIN:VTIMEZONE
TZID:America/New_York
X-LIC-LOCATION:America/New_York
BEGIN:DAYLIGHT
DTSTART:20220313T030000
TZOFFSETFROM:-0500
TZOFFSETTO:-0400
TZNAME:EDT
END:DAYLIGHT
END:VTIMEZONE
END:VCALENDAR